BEGIN:VCALENDAR
PRODID:-//Pixl8//Eventfolio//EN
VERSION:2.0
X-WR-TIMEZONE:Europe/Madrid
CALSCALE:GREGORIAN
METHOD:PUBLISH
CLASS:PUBLIC
BEGIN:VTIMEZONE
TZID:Europe/Madrid
LAST-MODIFIED:20260306T231828Z
TZURL:https://www.tzurl.org/zoneinfo-outlook/Europe/Madrid
X-LIC-LOCATION:Europe/Madrid
BEGIN:DAYLIGHT
TZNAME:CEST
TZOFFSETFROM:+0100
TZOFFSETTO:+0200
DTSTART:19700329T020000
RRULE:FREQ=YEARLY;BYMONTH=3;BYDAY=-1SU
END:DAYLIGHT
BEGIN:STANDARD
TZNAME:CET
TZOFFSETFROM:+0200
TZOFFSETTO:+0100
DTSTART:19701025T030000
RRULE:FREQ=YEARLY;BYMONTH=10;BYDAY=-1SU
END:STANDARD
END:VTIMEZONE
BEGIN:VEVENT
DTSTART;TZID=Europe/Madrid;VALUE=DATE:20260311
DTEND;TZID=Europe/Madrid;VALUE=DATE:20260313
DTSTAMP:20260425T142224Z
UID:{C7B9F313-DAE5-46EB-BE2C8BA3BE6D7189}
LOCATION:LA QUINTA DE JARAMA\, A1 CARRETERA DE BURGOS\, KM.26 Ctra. de Burgos\, km.26\, 28702 Madrid\, Spain
SUMMARY:AESS Self Storage Conference 11 & 12 March 2026 
DESCRIPTION:Event details: https://www.fedessa.org/events/ems-event-calendar/aess-self-storage-conference-11-12-march-2026.html
PRIORITY:1
END:VEVENT
END:VCALENDAR