BEGIN:VCALENDAR
PRODID:-//Pixl8//Eventfolio//EN
VERSION:2.0
X-WR-TIMEZONE:Europe/London
CALSCALE:GREGORIAN
METHOD:PUBLISH
CLASS:PUBLIC
BEGIN:VTIMEZONE
TZID:Europe/London
LAST-MODIFIED:20260306T231828Z
TZURL:https://www.tzurl.org/zoneinfo-outlook/Europe/London
X-LIC-LOCATION:Europe/London
BEGIN:DAYLIGHT
TZNAME:BST
TZOFFSETFROM:+0000
TZOFFSETTO:+0100
DTSTART:19700329T010000
RRULE:FREQ=YEARLY;BYMONTH=3;BYDAY=-1SU
END:DAYLIGHT
BEGIN:STANDARD
TZNAME:GMT
TZOFFSETFROM:+0100
TZOFFSETTO:+0000
DTSTART:19701025T020000
RRULE:FREQ=YEARLY;BYMONTH=10;BYDAY=-1SU
END:STANDARD
END:VTIMEZONE
BEGIN:VEVENT
DTSTART;TZID=Europe/London:20220315T103000
DTEND;TZID=Europe/London:20220315T113000
DTSTAMP:20260423T095026Z
UID:{AEF74BCD-7C5A-4E86-A9921700DA0E6786}
LOCATION:Via Zoom
SUMMARY:Sector Forum Security
DESCRIPTION:Security is always a hot topic and there are many security issues to consider and manage from store to cyber ensuring we remain fully protected from all potential threats.\n
 \n
 \n
 \n
 Chaired by Barry Rimmer & John D'Aprano from PTI Security Systems, our Security meetings will offer a platform for members to look at how best to improve industry security and consider risk and compliance.\n
 \n
 Event details: https://www.fedessa.org/events/ems-event-calendar/sector-forum-security-15-march-2022.html
PRIORITY:1
END:VEVENT
END:VCALENDAR